BEGIN:VCALENDAR
VERSION:2.0
PRODID:-//Terminplaner Borkenfeld.tech//DE
CALSCALE:GREGORIAN
X-WR-CALNAME:Seniorenbeirat Dorsten - Termine
BEGIN:VEVENT
UID:termin-2931-2026-01-12@seniorenbeirat-dorsten.de
DTSTAMP:20260420T004115Z
DTSTART;VALUE=DATE:20260112
DTEND;VALUE=DATE:20260113
SUMMARY:Sitzung: KSAG Recklinghausen – Seniorenbeirat Dorsten
DESCRIPTION:Kreisarbeitsgemeinschaft der Seniorenbeiräte im Kreis Recklinghausen\n\nSeniorenbeirat Dorsten
END:VEVENT
END:VCALENDAR
