BEGIN:VCALENDAR
VERSION:2.0
PRODID:-//Terminplaner Borkenfeld.tech//DE
CALSCALE:GREGORIAN
X-WR-CALNAME:Seniorenbeirat Dorsten - Termine
BEGIN:VEVENT
UID:termin-2927-2026-02-23@seniorenbeirat-dorsten.de
DTSTAMP:20260420T004227Z
DTSTART:20260223T100000
DTEND:20260223T120000
SUMMARY:Sitzung: Arbeitskreis Seniorenbegleitung & Taschengeldbörse – Seniorenbeirat Dorsten
LOCATION:An der Vehme 1
DESCRIPTION:Seniorenbeirat Dorsten
END:VEVENT
END:VCALENDAR
