BEGIN:VCALENDAR
VERSION:2.0
PRODID:-//Terminplaner Borkenfeld.tech//DE
CALSCALE:GREGORIAN
X-WR-CALNAME:Seniorenbeirat Dorsten - Termine
BEGIN:VEVENT
UID:termin-2930-2026-04-16@seniorenbeirat-dorsten.de
DTSTAMP:20260420T003905Z
DTSTART:20260416T160000
DTEND:20260416T180000
SUMMARY:Sitzung: Arbeitskreis Technikbegleiter – Seniorenbeirat Dorsten
LOCATION:An der Vehme 1
DESCRIPTION:Seniorenbeirat Dorsten
END:VEVENT
END:VCALENDAR
