BEGIN:VCALENDAR
VERSION:2.0
PRODID:-//Terminplaner Borkenfeld.tech//DE
CALSCALE:GREGORIAN
X-WR-CALNAME:Seniorenbeirat Dorsten - Termine
BEGIN:VEVENT
UID:termin-2927-2026-05-18@seniorenbeirat-dorsten.de
DTSTAMP:20260420T004642Z
DTSTART:20260518T100000
DTEND:20260518T120000
SUMMARY:Sitzung: Arbeitskreis Seniorenbegleitung & Taschengeldbörse – Seniorenbeirat Dorsten
LOCATION:An der Vehme 1
DESCRIPTION:Seniorenbeirat Dorsten
END:VEVENT
END:VCALENDAR
