BEGIN:VCALENDAR
VERSION:2.0
PRODID:-//Terminplaner Borkenfeld.tech//DE
CALSCALE:GREGORIAN
X-WR-CALNAME:Seniorenbeirat Dorsten - Termine
BEGIN:VEVENT
UID:termin-2929-2026-07-13@seniorenbeirat-dorsten.de
DTSTAMP:20260420T004114Z
DTSTART:20260713T150000
DTEND:20260713T170000
SUMMARY:Sitzung: Arbeitskreis Öffentlichkeitsarbeit – Seniorenbeirat Dorsten
LOCATION:An der Vehme 1
DESCRIPTION:Seniorenbeirat Dorsten
END:VEVENT
END:VCALENDAR
