BEGIN:VCALENDAR
VERSION:2.0
PRODID:-//Terminplaner Borkenfeld.tech//DE
CALSCALE:GREGORIAN
X-WR-CALNAME:Seniorenbeirat Dorsten - Termine
BEGIN:VEVENT
UID:termin-2927-2026-08-24@seniorenbeirat-dorsten.de
DTSTAMP:20260420T004033Z
DTSTART:20260824T100000
DTEND:20260824T120000
SUMMARY:Sitzung: Arbeitskreis Seniorenbegleitung & Taschengeldbörse – Seniorenbeirat Dorsten
LOCATION:An der Vehme 1
DESCRIPTION:Seniorenbeirat Dorsten
END:VEVENT
END:VCALENDAR
