BEGIN:VCALENDAR
VERSION:2.0
PRODID:-//Terminplaner Borkenfeld.tech//DE
CALSCALE:GREGORIAN
X-WR-CALNAME:Seniorenbeirat Dorsten - Termine
BEGIN:VEVENT
UID:termin-2931-2026-10-12@seniorenbeirat-dorsten.de
DTSTAMP:20260420T004329Z
DTSTART;VALUE=DATE:20261012
DTEND;VALUE=DATE:20261013
SUMMARY:Sitzung: KSAG Recklinghausen – Seniorenbeirat Dorsten
DESCRIPTION:Kreisarbeitsgemeinschaft der Seniorenbeiräte im Kreis Recklinghausen\n\nSeniorenbeirat Dorsten
END:VEVENT
END:VCALENDAR
