BEGIN:VCALENDAR
VERSION:2.0
PRODID:-//Terminplaner Borkenfeld.tech//DE
CALSCALE:GREGORIAN
X-WR-CALNAME:Seniorenbeirat Dorsten - Termine
BEGIN:VEVENT
UID:termin-2930-2026-10-22@seniorenbeirat-dorsten.de
DTSTAMP:20260420T004345Z
DTSTART:20261022T160000
DTEND:20261022T180000
SUMMARY:Sitzung: Arbeitskreis Technikbegleiter – Seniorenbeirat Dorsten
LOCATION:An der Vehme 1
DESCRIPTION:Seniorenbeirat Dorsten
END:VEVENT
END:VCALENDAR
